BEGIN:VCALENDAR
VERSION:2.0
PRODID:-//eventon.com NONSGML v1.0//EN
CALSCALE:GREGORIAN
METHOD:PUBLISH
BEGIN:VEVENT
UID:69e8279566915
DTSTAMP:20260422T024245
DTSTART:20260619T120000Z
DTEND:20260619T215900Z
TZID:Europe/Paris
LOCATION:Club Carnot 28 Avenue du Petit Juas à Cannes
SUMMARY:Laïcité et Séparatismes : Enjeux Républicains et Défis Contemporains
DESCRIPTION: L’application du principe de laïcité dans l’espace public permet d’assurer le respect des principes républicains d’unité et de neutralité\,  en garantissant la liberté individuelle de conscience et de culte. Certains replis communautaires se manifestent depuis quelques années. Le décryptage de leurs effets au quotidien sur la laïcité permet de comprendre[..]\nhttps://www.csleclub.com/events/laicite-et-separatismes-enjeux-republicains-et-defis-contemporains/
URL:https://www.csleclub.com/events/laicite-et-separatismes-enjeux-republicains-et-defis-contemporains/
END:VEVENT
END:VCALENDAR