BEGIN:VCALENDAR
VERSION:2.0
PRODID:-//eventon.com NONSGML v1.0//EN
CALSCALE:GREGORIAN
METHOD:PUBLISH
BEGIN:VEVENT
UID:69e8262dbc176
DTSTAMP:20260422T023645
DTSTART:20260612T120000Z
DTEND:20260612T215900Z
TZID:Europe/Paris
LOCATION:Club Carnot 28 Avenue du Petit Juas à Cannes
SUMMARY:Le Minotaure\,  de La Crète à Picasso
DESCRIPTION: Il y a plus de 2 000 ans\,  en Crète\,  le palais de Cnossos abritait une créature légendaire : le Minotaure. Un corps d’homme et une tête de taureau\,  né des amours de Pasiphaé et d’un taureau blanc envoyé par Poséidon\,  qui fut enfermé dans le célèbre labyrinthe de Dédale.[..]\nhttps://www.csleclub.com/events/le-minotaure-de-la-crete-a-picasso/
URL:https://www.csleclub.com/events/le-minotaure-de-la-crete-a-picasso/
END:VEVENT
END:VCALENDAR