BEGIN:VCALENDAR
VERSION:2.0
PRODID:-//eventon.com NONSGML v1.0//EN
CALSCALE:GREGORIAN
METHOD:PUBLISH
BEGIN:VEVENT
UID:69e8278d3a51d
DTSTAMP:20260422T024237
DTSTART:20260605T120000Z
DTEND:20260605T215900Z
TZID:Europe/Paris
LOCATION:Club Carnot 28 Avenue du Petit Juas à Cannes
SUMMARY:Arts et Philosophie : Art et spiritualité : une expérience du mystère ?
DESCRIPTION: Kandinsky\,  Rilke\,  Simone Weil\,  art religieux et art méditatif Illustration : icônes\,  peinture zen\,  Rothko Chapel. Par Patrick Robert Docteur en philosophie de l’Université de Nice\,  il a fondé depuis 1997\,  à Cannes\,  un Cabinet libéral de Philosophie centré sur l’Analyse Existentielle. Cycle de conférences sur le thème « Arts[..]\nhttps://www.csleclub.com/events/arts-et-philosophie-art-et-spiritualite-une-experience-du-mystere/
URL:https://www.csleclub.com/events/arts-et-philosophie-art-et-spiritualite-une-experience-du-mystere/
END:VEVENT
END:VCALENDAR